BEGIN:VCALENDAR
VERSION:2.0
PRODID:-//SVP Appenzell Ausserrhoden //NONSGML Events //EN
CALSCALE:GREGORIAN
X-WR-CALNAME:SVP Appenzell Ausserrhoden
BEGIN:VEVENT
CREATED:20190422T083131Z
UID:10712
DTEND:20190821T210000
DTSTART:20190821T200000
DTSTAMP:20260425T201723Z
LOCATION:
DESCRIPTION:
SUMMARY:Kaderworkshop
ORGANIZER:SVP AR
URL;VALUE=URI:https://www.svp-ar.ch/aktuell/termine/kaderworkshop-2/
TRANSP:OPAQUE
END:VEVENT
END:VCALENDAR
