BEGIN:VCALENDAR
VERSION:2.0
PRODID:-//SVP Appenzell Ausserrhoden //NONSGML Events //EN
CALSCALE:GREGORIAN
X-WR-CALNAME:SVP Appenzell Ausserrhoden
BEGIN:VEVENT
CREATED:20211217T080605Z
UID:12393
DTEND:20221026T200000
DTSTART:20221026T180000
DTSTAMP:20260419T141740Z
LOCATION:Schönengrund\, Restaurant Ochsen
DESCRIPTION:Vorstandsitzung Parteileitung SVP AR
SUMMARY:PL
ORGANIZER:SVP AR
URL;VALUE=URI:https://www.svp-ar.ch/aktuell/termine/pl-14/
TRANSP:OPAQUE
END:VEVENT
END:VCALENDAR
