BEGIN:VCALENDAR
VERSION:2.0
PRODID:-//SVP Appenzell Ausserrhoden //NONSGML Events //EN
CALSCALE:GREGORIAN
X-WR-CALNAME:SVP Appenzell Ausserrhoden
BEGIN:VEVENT
CREATED:20211217T080607Z
UID:12412
DTEND:20221022T170000
DTSTART:20221022T100000
DTSTAMP:20260423T080509Z
LOCATION:
DESCRIPTION:
SUMMARY:DV SVP CH
ORGANIZER:SVP CH
URL;VALUE=URI:https://www.svp-ar.ch/aktuell/termine/dv-svp-ch-12/
TRANSP:OPAQUE
END:VEVENT
END:VCALENDAR
