BEGIN:VCALENDAR
VERSION:2.0
PRODID:-//SVP Appenzell Ausserrhoden //NONSGML Events //EN
CALSCALE:GREGORIAN
X-WR-CALNAME:SVP Appenzell Ausserrhoden
BEGIN:VEVENT
CREATED:20221220T131608Z
UID:13114
DTEND:20231205T220000
DTSTART:20231205T193000
DTSTAMP:20260420T131950Z
LOCATION:Slongo AG\, Herisau
DESCRIPTION:Bisher Delegiertenversammlung (DV), neu Mitgliederversammlung (MV) all
SUMMARY:MV SVP AR
ORGANIZER:SVP AR
URL;VALUE=URI:https://www.svp-ar.ch/aktuell/termine/dv-svp-ar-15/
TRANSP:OPAQUE
END:VEVENT
END:VCALENDAR
