BEGIN:VCALENDAR
VERSION:2.0
PRODID:-//SVP Appenzell Ausserrhoden //NONSGML Events //EN
CALSCALE:GREGORIAN
X-WR-CALNAME:SVP Appenzell Ausserrhoden
BEGIN:VEVENT
CREATED:20221220T131612Z
UID:13169
DTEND:20231018T220000
DTSTART:20231018T190000
DTSTAMP:20260420T060653Z
LOCATION:Appenzell Ausserrhoden
DESCRIPTION:Fraktionssitzung SVP AR
SUMMARY:Fraktion &#8211\; Sitzung
ORGANIZER:SVP AR
URL;VALUE=URI:https://www.svp-ar.ch/aktuell/termine/fraktion-sitzung-23/
TRANSP:OPAQUE
END:VEVENT
END:VCALENDAR
