BEGIN:VCALENDAR
VERSION:2.0
PRODID:-//SVP Appenzell Ausserrhoden //NONSGML Events //EN
CALSCALE:GREGORIAN
X-WR-CALNAME:SVP Appenzell Ausserrhoden
BEGIN:VEVENT
CREATED:20251125T054706Z
UID:14407
DTEND:20260204T220000
DTSTART:20260204T200000
DTSTAMP:20260425T152929Z
LOCATION:Restaurant Park (Altersheim Heinrichsbad)\, Kasernenstrasse 91\, 9100 Herisau
DESCRIPTION:Mitgliederversammlung für alle interessierten Mitglieder. Link: Einla
SUMMARY:MV SVP AR
ORGANIZER:SVP AR
URL;VALUE=URI:https://www.svp-ar.ch/aktuell/termine/mv-svp-ar-9/
TRANSP:OPAQUE
END:VEVENT
END:VCALENDAR
