BEGIN:VCALENDAR
VERSION:2.0
PRODID:-//SVP Appenzell Ausserrhoden //NONSGML Events //EN
CALSCALE:GREGORIAN
X-WR-CALNAME:SVP Appenzell Ausserrhoden
BEGIN:VEVENT
CREATED:20251125T054707Z
UID:14421
DTEND:20260604T190000
DTSTART:20260604T173000
DTSTAMP:20260423T113233Z
LOCATION:
DESCRIPTION:Terminblocker für Vernehmlassung. Durchführung gem. separater Einlad
SUMMARY:Vernehmlassung
ORGANIZER:SVP AR
URL;VALUE=URI:https://www.svp-ar.ch/aktuell/termine/vernehmlassung-42/
TRANSP:OPAQUE
END:VEVENT
END:VCALENDAR
