BEGIN:VCALENDAR
VERSION:2.0
PRODID:-//SVP Appenzell Ausserrhoden //NONSGML Events //EN
CALSCALE:GREGORIAN
X-WR-CALNAME:SVP Appenzell Ausserrhoden
BEGIN:VEVENT
CREATED:20251125T054709Z
UID:14469
DTEND:20260530T220000
DTSTART:20260530T200000
DTSTAMP:20260423T113905Z
LOCATION:
DESCRIPTION:
SUMMARY:Besichtigung Stadler Rail
ORGANIZER:SVP Vorderland
URL;VALUE=URI:https://www.svp-ar.ch/aktuell/termine/besichtigung-stadler-rail/
TRANSP:OPAQUE
END:VEVENT
END:VCALENDAR
